BEGIN:VCALENDAR
VERSION:2.0
PRODID:-//hacksw/handcal//NONSGML v1.0//EN
CALSCALE:GREGORIAN
BEGIN:VEVENT
DTSTART:20260914T000000Z
DTEND:20260916T000000Z
SUMMARY:IOO·HORIZON
URL;VALUE=URI:https://www.theconsumergoodsforum.com/events/ioo-horizon/
DTSTAMP:20260425T172843Z
UID:69ecf9cb4c96c
END:VEVENT
END:VCALENDAR